BEGIN:VCALENDAR
VERSION:2.0
PRODID:-//Roswell Inc - ECPv6.15.13//NONSGML v1.0//EN
CALSCALE:GREGORIAN
METHOD:PUBLISH
X-WR-CALNAME:Roswell Inc
X-ORIGINAL-URL:https://roswellinc.org
X-WR-CALDESC:Events for Roswell Inc
REFRESH-INTERVAL;VALUE=DURATION:PT1H
X-Robots-Tag:noindex
X-PUBLISHED-TTL:PT1H
BEGIN:VTIMEZONE
TZID:America/New_York
BEGIN:DAYLIGHT
TZOFFSETFROM:-0500
TZOFFSETTO:-0400
TZNAME:EDT
DTSTART:20240310T070000
END:DAYLIGHT
BEGIN:STANDARD
TZOFFSETFROM:-0400
TZOFFSETTO:-0500
TZNAME:EST
DTSTART:20241103T060000
END:STANDARD
BEGIN:DAYLIGHT
TZOFFSETFROM:-0500
TZOFFSETTO:-0400
TZNAME:EDT
DTSTART:20250309T070000
END:DAYLIGHT
BEGIN:STANDARD
TZOFFSETFROM:-0400
TZOFFSETTO:-0500
TZNAME:EST
DTSTART:20251102T060000
END:STANDARD
BEGIN:DAYLIGHT
TZOFFSETFROM:-0500
TZOFFSETTO:-0400
TZNAME:EDT
DTSTART:20260308T070000
END:DAYLIGHT
BEGIN:STANDARD
TZOFFSETFROM:-0400
TZOFFSETTO:-0500
TZNAME:EST
DTSTART:20261101T060000
END:STANDARD
END:VTIMEZONE
BEGIN:VEVENT
DTSTART;TZID=America/New_York:20250717T170000
DTEND;TZID=America/New_York:20250717T200000
DTSTAMP:20260422T202043
CREATED:20250626T135001Z
LAST-MODIFIED:20250626T183642Z
UID:51038-1752771600-1752782400@roswellinc.org
SUMMARY:Block Party at Southern Post
DESCRIPTION:🍹 Sip Into Summer at Southern Post – Thursday\, July 17!Back by popular demand! After an amazing kickoff last month\, we’re excited to host the second Summer Sippin’ Block Party during Alive in Roswell on Thursday\, July 17\, from 5:00–8:00 PM at Southern Post. \nCome out and enjoy another evening of refreshing drinks\, vibrant summer vibes\, and interactive fun — all made possible by these incredible sponsors and participants: \n• Amorino Gelato• Azotea Cantina• Bar Crawl USA• BEY• Belux Coffee• CA South• Carl Black• Grana• Ripple Glass• Sweathouz• Whydrate \nLet’s sip\, stroll\, and celebrate together again with the Roswell community — and stay tuned for even more to come!
URL:https://roswellinc.org/event/51038/
LOCATION:Southern Post\, 1037 Alpharetta Street\, Roswell\, 30075\, United States
ATTACH;FMTTYPE=image/png:https://roswellinc.org/wp-content/uploads/2025/06/SS-Block-Party-July-1920-x-1080-px.png
END:VEVENT
END:VCALENDAR