BEGIN:VCALENDAR
VERSION:2.0
PRODID:-//Roswell Inc - ECPv6.15.13//NONSGML v1.0//EN
CALSCALE:GREGORIAN
METHOD:PUBLISH
X-WR-CALNAME:Roswell Inc
X-ORIGINAL-URL:https://roswellinc.org
X-WR-CALDESC:Events for Roswell Inc
REFRESH-INTERVAL;VALUE=DURATION:PT1H
X-Robots-Tag:noindex
X-PUBLISHED-TTL:PT1H
BEGIN:VTIMEZONE
TZID:America/New_York
BEGIN:DAYLIGHT
TZOFFSETFROM:-0500
TZOFFSETTO:-0400
TZNAME:EDT
DTSTART:20190310T070000
END:DAYLIGHT
BEGIN:STANDARD
TZOFFSETFROM:-0400
TZOFFSETTO:-0500
TZNAME:EST
DTSTART:20191103T060000
END:STANDARD
BEGIN:DAYLIGHT
TZOFFSETFROM:-0500
TZOFFSETTO:-0400
TZNAME:EDT
DTSTART:20200308T070000
END:DAYLIGHT
BEGIN:STANDARD
TZOFFSETFROM:-0400
TZOFFSETTO:-0500
TZNAME:EST
DTSTART:20201101T060000
END:STANDARD
BEGIN:DAYLIGHT
TZOFFSETFROM:-0500
TZOFFSETTO:-0400
TZNAME:EDT
DTSTART:20210314T070000
END:DAYLIGHT
BEGIN:STANDARD
TZOFFSETFROM:-0400
TZOFFSETTO:-0500
TZNAME:EST
DTSTART:20211107T060000
END:STANDARD
BEGIN:DAYLIGHT
TZOFFSETFROM:-0500
TZOFFSETTO:-0400
TZNAME:EDT
DTSTART:20220313T070000
END:DAYLIGHT
BEGIN:STANDARD
TZOFFSETFROM:-0400
TZOFFSETTO:-0500
TZNAME:EST
DTSTART:20221106T060000
END:STANDARD
BEGIN:DAYLIGHT
TZOFFSETFROM:-0500
TZOFFSETTO:-0400
TZNAME:EDT
DTSTART:20230312T070000
END:DAYLIGHT
BEGIN:STANDARD
TZOFFSETFROM:-0400
TZOFFSETTO:-0500
TZNAME:EST
DTSTART:20231105T060000
END:STANDARD
BEGIN:DAYLIGHT
TZOFFSETFROM:-0500
TZOFFSETTO:-0400
TZNAME:EDT
DTSTART:20240310T070000
END:DAYLIGHT
BEGIN:STANDARD
TZOFFSETFROM:-0400
TZOFFSETTO:-0500
TZNAME:EST
DTSTART:20241103T060000
END:STANDARD
BEGIN:DAYLIGHT
TZOFFSETFROM:-0500
TZOFFSETTO:-0400
TZNAME:EDT
DTSTART:20250309T070000
END:DAYLIGHT
BEGIN:STANDARD
TZOFFSETFROM:-0400
TZOFFSETTO:-0500
TZNAME:EST
DTSTART:20251102T060000
END:STANDARD
END:VTIMEZONE
BEGIN:VEVENT
DTSTART;VALUE=DATE:20240118
DTEND;VALUE=DATE:20240204
DTSTAMP:20260424T010928
CREATED:20240118T195436Z
LAST-MODIFIED:20240118T195506Z
UID:50566-1705536000-1707004799@roswellinc.org
SUMMARY:Roswell Restaurant Weeks 2024
DESCRIPTION:Join us in celebrating the delicious and diverse culinary experiences Roswell has to offer and help support our vibrant restaurant community. The largest restaurant week in the Metro Atlanta Area returns January 18 – February 3 with over 45 participating restaurants! Each participating restaurant will feature a prix fixe menu of local favorites and chef specials. \nVisit RoswellRW.com
URL:https://roswellinc.org/event/50566/
LOCATION:GA
CATEGORIES:Industry Support
ATTACH;FMTTYPE=image/png:https://roswellinc.org/wp-content/uploads/2024/01/calendar-image.png
END:VEVENT
BEGIN:VEVENT
DTSTART;TZID=America/New_York:20210312T090000
DTEND;TZID=America/New_York:20210312T103000
DTSTAMP:20260424T010928
CREATED:20210219T134250Z
LAST-MODIFIED:20210219T134250Z
UID:49342-1615539600-1615545000@roswellinc.org
SUMMARY:Virtual State of the City Roswell 2021
DESCRIPTION:In its ninth year\, State of the City Roswell is going virtual! Join local businesses\, community stakeholders and regional leaders as Roswell Inc recaps projects from the previous year\, gives an overview of current market trends and provides insight into what’s to come for the business community in the year ahead\, followed by a State of the City update from Roswell Mayor Lori Henry. \nOver the past year\, our team has supported hundreds of businesses impacted by the pandemic\, and along the way we have seen tremendous resiliency! Join us in celebrating Roswell’s businesses that prevailed\, the industries that succeeded and projects that pushed forward against the odds! We will give an update on the latest market trends in key industries\, including office\, retail\, hospitality\, and automotive\, among others. Lastly\, we will look toward economic recovery and discuss what’s to come in the year ahead. \nThis annual event helps to support Roswell Inc’s economic development efforts for the coming year. In addition to virtual event admission\, all registered attendees will receive early access to Roswell Inc’s 2020 Annual Report as well as exclusive access to the event recording. \nPlease Note: Registered attendees will receive an email with the Zoom link and meeting details 1-2 days prior to the event. If you do not receive the event details\, please contact Ashley Allen (ashley@roswellinc.org). \nRegister Now
URL:https://roswellinc.org/event/virtual-state-of-the-city-roswell-2021/
LOCATION:Online
CATEGORIES:Industry Support
ATTACH;FMTTYPE=image/png:https://roswellinc.org/wp-content/uploads/2021/02/SOTC-eventbrite-header-copy-e1613741959965.png
END:VEVENT
BEGIN:VEVENT
DTSTART;VALUE=DATE:20200120
DTEND;VALUE=DATE:20200130
DTSTAMP:20260424T010928
CREATED:20200111T150042Z
LAST-MODIFIED:20200111T150042Z
UID:48502-1579478400-1580342399@roswellinc.org
SUMMARY:Roswell Restaurant Week
DESCRIPTION:Roswell Restaurant Week returns to celebrate the city’s finest culinary experiences from January 20-29\, 2020. For the sixth consecutive year\, Roswell Restaurant Week will be presented by Roswell Inc\, the economic and business development organization for the City of Roswell. \nRoswell Restaurant Week is the largest restaurant week event in Metro Atlanta\, with 42 participating restaurants from around the city. During the 10-day event\, all participating restaurants will serve individual prix fixe menus featuring signature favorites and original specialties.
URL:https://roswellinc.org/event/roswell-restaurant-week/
LOCATION:GA
CATEGORIES:Industry Support
ATTACH;FMTTYPE=image/jpeg:https://roswellinc.org/wp-content/uploads/2019/12/Roswell-Restaurant-Week-2020-From-The-Earth.jpg
END:VEVENT
END:VCALENDAR