BEGIN:VCALENDAR
VERSION:2.0
PRODID:-//Roswell Inc - ECPv6.15.13//NONSGML v1.0//EN
CALSCALE:GREGORIAN
METHOD:PUBLISH
X-ORIGINAL-URL:https://roswellinc.org
X-WR-CALDESC:Events for Roswell Inc
REFRESH-INTERVAL;VALUE=DURATION:PT1H
X-Robots-Tag:noindex
X-PUBLISHED-TTL:PT1H
BEGIN:VTIMEZONE
TZID:America/New_York
BEGIN:DAYLIGHT
TZOFFSETFROM:-0500
TZOFFSETTO:-0400
TZNAME:EDT
DTSTART:20250309T070000
END:DAYLIGHT
BEGIN:STANDARD
TZOFFSETFROM:-0400
TZOFFSETTO:-0500
TZNAME:EST
DTSTART:20251102T060000
END:STANDARD
BEGIN:DAYLIGHT
TZOFFSETFROM:-0500
TZOFFSETTO:-0400
TZNAME:EDT
DTSTART:20260308T070000
END:DAYLIGHT
BEGIN:STANDARD
TZOFFSETFROM:-0400
TZOFFSETTO:-0500
TZNAME:EST
DTSTART:20261101T060000
END:STANDARD
BEGIN:DAYLIGHT
TZOFFSETFROM:-0500
TZOFFSETTO:-0400
TZNAME:EDT
DTSTART:20270314T070000
END:DAYLIGHT
BEGIN:STANDARD
TZOFFSETFROM:-0400
TZOFFSETTO:-0500
TZNAME:EST
DTSTART:20271107T060000
END:STANDARD
END:VTIMEZONE
BEGIN:VEVENT
DTSTART;TZID=America/New_York:20260501T113000
DTEND;TZID=America/New_York:20260501T123000
DTSTAMP:20260421T135510
CREATED:20260402T235250Z
LAST-MODIFIED:20260402T235250Z
UID:51528-1777635000-1777638600@roswellinc.org
SUMMARY:Ribbon Cutting for  Car Spa Roswell
DESCRIPTION:Join us as we celebrate the Grand Re-Opening of Car Spa Roswell on Friday\, May 1 at 11:30 a.m. \nCome out and help us welcome this local business back with a special celebration\, community connections\, and an official ribbon cutting. We’re excited to mark this exciting new chapter for Car Spa Roswell and show our support for one of our valued local businesses. \nWe hope to see you there as we celebrate this exciting milestone for the Roswell business community.
URL:https://roswellinc.org/event/ribbon-cutting-for-car-spa-roswell/
LOCATION:Car Spa\, 10440 Alpharetta St\, Roswell\, GA\, 30075\, United States
CATEGORIES:Ribbon Cuttings and Grand Openings
ATTACH;FMTTYPE=image/png:https://roswellinc.org/wp-content/uploads/2026/02/RibbonCutting-events.png
END:VEVENT
BEGIN:VEVENT
DTSTART;TZID=America/New_York:20260504T120000
DTEND;TZID=America/New_York:20260504T130000
DTSTAMP:20260421T135511
CREATED:20260421T152940Z
LAST-MODIFIED:20260421T153039Z
UID:51544-1777896000-1777899600@roswellinc.org
SUMMARY:Ribbon Cutting for Spice of Thai
DESCRIPTION:You are invited to officially welcome the new owners of Spice of Thai\, New and Blake Metta to the Roswell community.\nSince acquiring the establishment\, the team has introduced significant enhancements to both the atmosphere and the dining experience. \nThe restaurant’s interior has been completely revitalized\, now featuring a more comfortable layout\, updated lighting\, new furniture\, and hand-painted artwork. These changes\, spearheaded by the Metta’s\, create a modern yet cozy aesthetic. \nNew brings exceptional hospitality experience from Qatar Airlines and other fine dining Thai restaurants\, ensuring stellar customer service. With a passion for the industry and a commitment to quality\, the Metta’s are excited to invite both new patrons and returning guests to experience the elevated and improved Spice of Thai.
URL:https://roswellinc.org/event/ribbon-cutting-for-spice-of-thai/
LOCATION:Spice of Thai\, 580 E Crossville Rd #420\, Roswell\, GA\, 30075\, United States
CATEGORIES:Ribbon Cuttings and Grand Openings
ATTACH;FMTTYPE=image/png:https://roswellinc.org/wp-content/uploads/2026/02/RibbonCutting-events.png
END:VEVENT
BEGIN:VEVENT
DTSTART;TZID=America/New_York:20260506T110000
DTEND;TZID=America/New_York:20260506T120000
DTSTAMP:20260421T135511
CREATED:20260421T153515Z
LAST-MODIFIED:20260421T153515Z
UID:51547-1778065200-1778068800@roswellinc.org
SUMMARY:Ribbon Cutting for Fitness Mpire
DESCRIPTION:Join Roswell Inc as we celebrate the ribbon cutting for Fitness Mpire!\nCome welcome this growing local business to the Roswell community and help us mark an exciting new chapter for their team. Enjoy networking with fellow business leaders\, community members\, and supporters as we officially celebrate their grand opening. \nWe look forward to seeing you there as we continue supporting the businesses that help Roswell thrive!
URL:https://roswellinc.org/event/ribbon-cutting-for-fitness-mpire/
LOCATION:Fitness Mpire\, 48 King St STE A\, Roswell\, GA\, 30075\, United States
CATEGORIES:Ribbon Cuttings and Grand Openings
ATTACH;FMTTYPE=image/png:https://roswellinc.org/wp-content/uploads/2026/02/RibbonCutting-events.png
END:VEVENT
BEGIN:VEVENT
DTSTART;TZID=America/New_York:20260529T090000
DTEND;TZID=America/New_York:20260529T100000
DTSTAMP:20260421T135511
CREATED:20230202T164723Z
LAST-MODIFIED:20230202T164723Z
UID:51455-1780045200-1780048800@roswellinc.org
SUMMARY:Virtual Coffee Connect
DESCRIPTION:Join us for the final virtual edition of our Roswell Coffee Connect series of the year! Registration will open 30-60 days prior to each event. \nGrab a cup of coffee or tea and join us via Zoom for a morning of networking with Roswell businesses! \nEvent Details: \n\nThe event will kick off with a welcome from our host and breakout session moderators\nThere will be 2 rounds of mini breakout sessions.\nAttendees will be divided into groups of 5-6 people and given about 20 minutes for open networking during each round.\n\n*Registered attendees will receive Zoom details 1 day prior to the event from your event host or co-host. \n\n\nFREE – Register Now
URL:https://roswellinc.org/event/virtual-coffee-connect-4/2026-05-29/
CATEGORIES:Networking Events
ATTACH;FMTTYPE=image/png:https://roswellinc.org/wp-content/uploads/2023/02/Virtual-Connect.image_.png
END:VEVENT
BEGIN:VEVENT
DTSTART;TZID=America/New_York:20260626T090000
DTEND;TZID=America/New_York:20260626T100000
DTSTAMP:20260421T135511
CREATED:20230202T164723Z
LAST-MODIFIED:20230202T164723Z
UID:51456-1782464400-1782468000@roswellinc.org
SUMMARY:Virtual Coffee Connect
DESCRIPTION:Join us for the final virtual edition of our Roswell Coffee Connect series of the year! Registration will open 30-60 days prior to each event. \nGrab a cup of coffee or tea and join us via Zoom for a morning of networking with Roswell businesses! \nEvent Details: \n\nThe event will kick off with a welcome from our host and breakout session moderators\nThere will be 2 rounds of mini breakout sessions.\nAttendees will be divided into groups of 5-6 people and given about 20 minutes for open networking during each round.\n\n*Registered attendees will receive Zoom details 1 day prior to the event from your event host or co-host. \n\n\nFREE – Register Now
URL:https://roswellinc.org/event/virtual-coffee-connect-4/2026-06-26/
CATEGORIES:Networking Events
ATTACH;FMTTYPE=image/png:https://roswellinc.org/wp-content/uploads/2023/02/Virtual-Connect.image_.png
END:VEVENT
BEGIN:VEVENT
DTSTART;TZID=America/New_York:20260731T090000
DTEND;TZID=America/New_York:20260731T100000
DTSTAMP:20260421T135511
CREATED:20230202T164723Z
LAST-MODIFIED:20230202T164723Z
UID:51457-1785488400-1785492000@roswellinc.org
SUMMARY:Virtual Coffee Connect
DESCRIPTION:Join us for the final virtual edition of our Roswell Coffee Connect series of the year! Registration will open 30-60 days prior to each event. \nGrab a cup of coffee or tea and join us via Zoom for a morning of networking with Roswell businesses! \nEvent Details: \n\nThe event will kick off with a welcome from our host and breakout session moderators\nThere will be 2 rounds of mini breakout sessions.\nAttendees will be divided into groups of 5-6 people and given about 20 minutes for open networking during each round.\n\n*Registered attendees will receive Zoom details 1 day prior to the event from your event host or co-host. \n\n\nFREE – Register Now
URL:https://roswellinc.org/event/virtual-coffee-connect-4/2026-07-31/
CATEGORIES:Networking Events
ATTACH;FMTTYPE=image/png:https://roswellinc.org/wp-content/uploads/2023/02/Virtual-Connect.image_.png
END:VEVENT
BEGIN:VEVENT
DTSTART;TZID=America/New_York:20260828T090000
DTEND;TZID=America/New_York:20260828T100000
DTSTAMP:20260421T135511
CREATED:20230202T164723Z
LAST-MODIFIED:20230202T164723Z
UID:51458-1787907600-1787911200@roswellinc.org
SUMMARY:Virtual Coffee Connect
DESCRIPTION:Join us for the final virtual edition of our Roswell Coffee Connect series of the year! Registration will open 30-60 days prior to each event. \nGrab a cup of coffee or tea and join us via Zoom for a morning of networking with Roswell businesses! \nEvent Details: \n\nThe event will kick off with a welcome from our host and breakout session moderators\nThere will be 2 rounds of mini breakout sessions.\nAttendees will be divided into groups of 5-6 people and given about 20 minutes for open networking during each round.\n\n*Registered attendees will receive Zoom details 1 day prior to the event from your event host or co-host. \n\n\nFREE – Register Now
URL:https://roswellinc.org/event/virtual-coffee-connect-4/2026-08-28/
CATEGORIES:Networking Events
ATTACH;FMTTYPE=image/png:https://roswellinc.org/wp-content/uploads/2023/02/Virtual-Connect.image_.png
END:VEVENT
BEGIN:VEVENT
DTSTART;TZID=America/New_York:20260925T090000
DTEND;TZID=America/New_York:20260925T100000
DTSTAMP:20260421T135511
CREATED:20230202T164723Z
LAST-MODIFIED:20230202T164723Z
UID:51459-1790326800-1790330400@roswellinc.org
SUMMARY:Virtual Coffee Connect
DESCRIPTION:Join us for the final virtual edition of our Roswell Coffee Connect series of the year! Registration will open 30-60 days prior to each event. \nGrab a cup of coffee or tea and join us via Zoom for a morning of networking with Roswell businesses! \nEvent Details: \n\nThe event will kick off with a welcome from our host and breakout session moderators\nThere will be 2 rounds of mini breakout sessions.\nAttendees will be divided into groups of 5-6 people and given about 20 minutes for open networking during each round.\n\n*Registered attendees will receive Zoom details 1 day prior to the event from your event host or co-host. \n\n\nFREE – Register Now
URL:https://roswellinc.org/event/virtual-coffee-connect-4/2026-09-25/
CATEGORIES:Networking Events
ATTACH;FMTTYPE=image/png:https://roswellinc.org/wp-content/uploads/2023/02/Virtual-Connect.image_.png
END:VEVENT
BEGIN:VEVENT
DTSTART;TZID=America/New_York:20261030T090000
DTEND;TZID=America/New_York:20261030T100000
DTSTAMP:20260421T135511
CREATED:20230202T164723Z
LAST-MODIFIED:20230202T164723Z
UID:51460-1793350800-1793354400@roswellinc.org
SUMMARY:Virtual Coffee Connect
DESCRIPTION:Join us for the final virtual edition of our Roswell Coffee Connect series of the year! Registration will open 30-60 days prior to each event. \nGrab a cup of coffee or tea and join us via Zoom for a morning of networking with Roswell businesses! \nEvent Details: \n\nThe event will kick off with a welcome from our host and breakout session moderators\nThere will be 2 rounds of mini breakout sessions.\nAttendees will be divided into groups of 5-6 people and given about 20 minutes for open networking during each round.\n\n*Registered attendees will receive Zoom details 1 day prior to the event from your event host or co-host. \n\n\nFREE – Register Now
URL:https://roswellinc.org/event/virtual-coffee-connect-4/2026-10-30/
CATEGORIES:Networking Events
ATTACH;FMTTYPE=image/png:https://roswellinc.org/wp-content/uploads/2023/02/Virtual-Connect.image_.png
END:VEVENT
BEGIN:VEVENT
DTSTART;TZID=America/New_York:20261127T090000
DTEND;TZID=America/New_York:20261127T100000
DTSTAMP:20260421T135511
CREATED:20230202T164723Z
LAST-MODIFIED:20230202T164723Z
UID:51461-1795770000-1795773600@roswellinc.org
SUMMARY:Virtual Coffee Connect
DESCRIPTION:Join us for the final virtual edition of our Roswell Coffee Connect series of the year! Registration will open 30-60 days prior to each event. \nGrab a cup of coffee or tea and join us via Zoom for a morning of networking with Roswell businesses! \nEvent Details: \n\nThe event will kick off with a welcome from our host and breakout session moderators\nThere will be 2 rounds of mini breakout sessions.\nAttendees will be divided into groups of 5-6 people and given about 20 minutes for open networking during each round.\n\n*Registered attendees will receive Zoom details 1 day prior to the event from your event host or co-host. \n\n\nFREE – Register Now
URL:https://roswellinc.org/event/virtual-coffee-connect-4/2026-11-27/
CATEGORIES:Networking Events
ATTACH;FMTTYPE=image/png:https://roswellinc.org/wp-content/uploads/2023/02/Virtual-Connect.image_.png
END:VEVENT
END:VCALENDAR