BEGIN:VCALENDAR
VERSION:2.0
PRODID:-//Roswell Inc - ECPv6.15.13//NONSGML v1.0//EN
CALSCALE:GREGORIAN
METHOD:PUBLISH
X-WR-CALNAME:Roswell Inc
X-ORIGINAL-URL:https://roswellinc.org
X-WR-CALDESC:Events for Roswell Inc
REFRESH-INTERVAL;VALUE=DURATION:PT1H
X-Robots-Tag:noindex
X-PUBLISHED-TTL:PT1H
BEGIN:VTIMEZONE
TZID:America/New_York
BEGIN:DAYLIGHT
TZOFFSETFROM:-0500
TZOFFSETTO:-0400
TZNAME:EDT
DTSTART:20240310T070000
END:DAYLIGHT
BEGIN:STANDARD
TZOFFSETFROM:-0400
TZOFFSETTO:-0500
TZNAME:EST
DTSTART:20241103T060000
END:STANDARD
BEGIN:DAYLIGHT
TZOFFSETFROM:-0500
TZOFFSETTO:-0400
TZNAME:EDT
DTSTART:20250309T070000
END:DAYLIGHT
BEGIN:STANDARD
TZOFFSETFROM:-0400
TZOFFSETTO:-0500
TZNAME:EST
DTSTART:20251102T060000
END:STANDARD
BEGIN:DAYLIGHT
TZOFFSETFROM:-0500
TZOFFSETTO:-0400
TZNAME:EDT
DTSTART:20260308T070000
END:DAYLIGHT
BEGIN:STANDARD
TZOFFSETFROM:-0400
TZOFFSETTO:-0500
TZNAME:EST
DTSTART:20261101T060000
END:STANDARD
END:VTIMEZONE
BEGIN:VEVENT
DTSTART;TZID=America/New_York:20250513T173000
DTEND;TZID=America/New_York:20250513T193000
DTSTAMP:20260423T062905
CREATED:20250411T153054Z
LAST-MODIFIED:20250415T170819Z
UID:50468-1747157400-1747164600@roswellinc.org
SUMMARY:Roswell Evening Connect @ LGE Community Credit Union
DESCRIPTION:Tuesday\, May 13th\n5:30 – 7:30 p.m.\nat LGE Community Credit Union\nJoin us for our Spring Evening Connect at LGE Community Credit Union! Mix and mingle with other local business professionals while enjoying bubbles and small bites from our restaurant partners! \nLGE Community Credit Union has long been a part of the Roswell community\, and its newest location brings even more convenience to its members. Situated in the heart of Roswell\, this branch offers a modern\, accessible space designed to provide exceptional banking services with the personal touch LGE is known for. \nRanked the #1 credit union in Georgia by Forbes and recognized as one of America’s Best Credit Unions 2024 by Newsweek\, LGE connects metro Atlanta and northwest Georgia to best-in-class financial products\, expert advice\, and personalized service. With a deep commitment to the community and a reputation for excellence\, LGE continues to empower its members with innovative financial solutions and trusted support for every stage of life. \n\n \n\n\n\n\nPresenting & Host Sponsor:\n\n\n\n\n\n\n\n\n\n\n\n\nPremier Sponsor:\n\n\n\n\n\n\n\n\n\n\n\nFeatured Sponsors:\n \n\n\n\n\n\n\n\nSeries Sponsors:\n \n\nRestaurants:\n\n \n\n\n\n\n\n\nBuy Tickets Now
URL:https://roswellinc.org/event/roswell-evening-connect-lge-community-credit-union/
LOCATION:LGE Community Credit Union\, 655 Holcomb Bridge Rd.\, Roswell\, 30076\, United States
CATEGORIES:Networking Events
ATTACH;FMTTYPE=image/jpeg:https://roswellinc.org/wp-content/uploads/2023/08/IMG_20250312_161839.jpg
END:VEVENT
END:VCALENDAR