BEGIN:VCALENDAR
VERSION:2.0
PRODID:-//Roswell Inc - ECPv6.15.13//NONSGML v1.0//EN
CALSCALE:GREGORIAN
METHOD:PUBLISH
X-ORIGINAL-URL:https://roswellinc.org
X-WR-CALDESC:Events for Roswell Inc
REFRESH-INTERVAL;VALUE=DURATION:PT1H
X-Robots-Tag:noindex
X-PUBLISHED-TTL:PT1H
BEGIN:VTIMEZONE
TZID:America/New_York
BEGIN:DAYLIGHT
TZOFFSETFROM:-0500
TZOFFSETTO:-0400
TZNAME:EDT
DTSTART:20250309T070000
END:DAYLIGHT
BEGIN:STANDARD
TZOFFSETFROM:-0400
TZOFFSETTO:-0500
TZNAME:EST
DTSTART:20251102T060000
END:STANDARD
BEGIN:DAYLIGHT
TZOFFSETFROM:-0500
TZOFFSETTO:-0400
TZNAME:EDT
DTSTART:20260308T070000
END:DAYLIGHT
BEGIN:STANDARD
TZOFFSETFROM:-0400
TZOFFSETTO:-0500
TZNAME:EST
DTSTART:20261101T060000
END:STANDARD
BEGIN:DAYLIGHT
TZOFFSETFROM:-0500
TZOFFSETTO:-0400
TZNAME:EDT
DTSTART:20270314T070000
END:DAYLIGHT
BEGIN:STANDARD
TZOFFSETFROM:-0400
TZOFFSETTO:-0500
TZNAME:EST
DTSTART:20271107T060000
END:STANDARD
END:VTIMEZONE
BEGIN:VEVENT
DTSTART;TZID=America/New_York:20260514T160000
DTEND;TZID=America/New_York:20260514T170000
DTSTAMP:20260423T181845
CREATED:20260423T160816Z
LAST-MODIFIED:20260423T160816Z
UID:51554-1778774400-1778778000@roswellinc.org
SUMMARY:Ribbon Cutting: Hugo's Oyster Bar
DESCRIPTION:You  are invited to a special ribbon-cutting ceremony celebrating the completion of Hugo’s Oyster Bar’s new enclosed patio and dining area! Hugo’s is excited to offer an enhanced dining experience for their valued guests. \nAs Hugo’s will be providing complimentary small bites following the ceremony\, your RSVP is requested.  \nWe encourage you to stay a little longer! The celebration will continue with live music starting at 5:00 PM.
URL:https://roswellinc.org/event/ribbon-cutting-hugos-oyster-bar/
LOCATION:Hugo’s Oyster Bar\, 10360 Alpharetta St\, Roswell\, GA\, 30075\, United States
CATEGORIES:Ribbon Cuttings and Grand Openings
ATTACH;FMTTYPE=image/png:https://roswellinc.org/wp-content/uploads/2026/02/RibbonCutting-events.png
END:VEVENT
END:VCALENDAR